Workbook

Sheet BNLM
A1: DR BEYERS NAUDÉ LOCAL MUNICIPALITY TARIFFS 2025/2026 | M1: DR BEYERS NAUDÉ LOCAL MUNICIPALITY DRAFT TARIFFS 2026/2027
A2: BULK INFRASTRUCTURE CONTRIBUTION LEVY (BICL) CHARGES (see addendum) | M2: BULK INFRASTRUCTURE CONTRIBUTION LEVY (BICL) CHARGES (see addendum)
A5: METERED ELECTRICITY TARIFFS (subject to approval by NERSA) | M5: METERED ELECTRICITY TARIFFS (subject to approval by NERSA)
A7: METERED ELECTRICITY - DEPOSITS (increase 4,6%) | M7: METERED ELECTRICITY - DEPOSITS (increase 3,7%)
A9: Type of Deposit: | B9: NO VAT | M9: Type of Deposit: | N9: NO VAT
A10: Domestic | B10: 2928.6 | M10: Domestic | N10: =+'GENERAL TARIFFS'!H16 -> 3036.9 | U10: rounded
A11: Other | B11: 4686.1 | C11: or amount equal to one month's consumption | M11: Other | N11: =+'GENERAL TARIFFS'!H17 -> 4859.4 | O11: or amount equal to one month's consumption | U11: rounded
C12: or an amount specified by Treasurer | O12: or an amount specified by Treasurer
A15: METERED ELECTRICITY - RECONNECTION FEES (increase 4,6%) | M15: METERED ELECTRICITY - RECONNECTION FEES (increase 3,7%)
A17: Area: | B17: VAT EXCL | C17: VAT INCL | M17: Area: | N17: VAT EXCL | O17: VAT INCL
A18: Town | B18: 847.91 | C18: 975.1 | M18: Town | N18: =+O18/1.15 -> 879.21739 | O18: =+'GENERAL TARIFFS'!H22 -> 1011.1 | U18: rounded
A19: Rural Area | B19: 847.91 | C19: 975.1 | D19: (plus transport costs + 25%) | M19: Rural Area | N19: =+O19/1.15 -> 879.21739 | O19: =+'GENERAL TARIFFS'!H23 -> 1011.1 | P19: (plus transport costs + 25%) | U19: rounded
A22: METERED ELECTRICITY - AVAILABILITY & ENERGY CONSUMPTION (subject to approval by NERSA) | M22: METERED ELECTRICITY - AVAILABILITY & ENERGY CONSUMPTION (subject to approval by NERSA)
A23: SCALE 1 - DOMESTIC (Availability & Maintenance increase 4,6% / Consumption increase 11,3%) | M23: SCALE 1 - DOMESTIC (Availability & Maintenance increase 3,7% / Consumption increase 14,2%)
A24: (FBE Availability increase 0% / Consumption increase 0%) | M24: (FBE Availability increase 3,7% / Consumption increase 6%)
A25: Low Domestic Town - Indigent | E25: TARIFF | G25: VAT EXCL | H25: VAT INCL | M25: Low Domestic Town - Indigent | Q25: TARIFF | S25: VAT EXCL | T25: VAT INCL
A26: Availability | D26: Availability | E26: 1100 | F26: DOM1 | G26: 275.37557 | H26: 316.68191 | M26: Availability | P26: Availability | Q26: 1100 | R26: DOM1 | S26: =+T26/1.15 -> 285.56447 | T26: =+H26+(H26*0.037) -> 328.39914
A27: Per unit/kWh | B27: Block 1 | C27: 1-50kWh | D27: Energy/kWh | E27: 1100 | F27: DOM1 | G27: 1.73482 | H27: 1.995043 | M27: Per unit/kWh | N27: Block 1 | O27: 1-50kWh | P27: Energy/kWh | Q27: 1100 | R27: DOM1 | S27: =+T27/1.15 -> 1.8389092 | T27: =+H27+(H27*0.06) -> 2.1147455
A28: Per unit/kWh | B28: Block 2 | C28: 51-350kWh | D28: Energy/kWh | E28: 1100 | F28: DOM1 | G28: 2.2482748 | H28: 2.585516 | M28: Per unit/kWh | N28: Block 2 | O28: 51-350kWh | P28: Energy/kWh | Q28: 1100 | R28: DOM1 | S28: =+T28/1.15 -> 2.3831713 | T28: =+H28+(H28*0.06) -> 2.740647
A29: Per unit/kWh | B29: Block 3 | C29: 351-600kWh | D29: Energy/kWh | E29: 1100 | F29: DOM1 | G29: 2.743567 | H29: 3.155102 | M29: Per unit/kWh | N29: Block 3 | O29: 351-600kWh | P29: Energy/kWh | Q29: 1100 | R29: DOM1 | S29: =+T29/1.15 -> 2.908181 | T29: =+H29+(H29*0.06) -> 3.3444081
A30: Per unit/kWh | B30: Block 4 | C30: >600kWh | D30: Energy/kWh | E30: 1100 | F30: DOM1 | G30: 3.2439043 | H30: 3.73049 | M30: Per unit/kWh | N30: Block 4 | O30: >600kWh | P30: Energy/kWh | Q30: 1100 | R30: DOM1 | S30: =+T30/1.15 -> 3.4385386 | T30: =+H30+(H30*0.06) -> 3.9543194
A32: Domestic Town | E32: TARIFF | G32: VAT EXCL | H32: VAT INCL | M32: Domestic Town | Q32: TARIFF | S32: VAT EXCL | T32: VAT INCL
A33: Availability | D33: Availability | E33: 1101 | F33: DOM2 | G33: 410.51 | H33: 472.09 | M33: Availability | P33: Availability | Q33: 1101 | R33: DOM2 | S33: =+T33/1.15 -> 425.70203 | T33: =+H33+(H33*0.037) -> 489.55733
A34: Per unit/kWh | B34: Block 1 | C34: 1-50kWh | D34: Energy/kWh | E34: 1101 | F34: DOM2 | G34: 2.019 | H34: 2.3219 | M34: Per unit/kWh | N34: Block 1 | O34: 1-50kWh | P34: Energy/kWh | Q34: 1101 | R34: DOM2 | S34: =+T34/1.15 -> 2.3057477 | T34: =+H34+(H34*0.142) -> 2.6516098
A35: Per unit/kWh | B35: Block 2 | C35: 51-350kWh | D35: Energy/kWh | E35: 1101 | F35: DOM2 | G35: 2.5921743 | H35: 2.9810005 | M35: Per unit/kWh | N35: Block 2 | O35: 51-350kWh | P35: Energy/kWh | Q35: 1101 | R35: DOM2 | S35: =+T35/1.15 -> 2.9602631 | T35: =+H35+(H35*0.142) -> 3.4043026
A36: Per unit/kWh | B36: Block 3 | C36: 351-600kWh | D36: Energy/kWh | E36: 1101 | F36: DOM2 | G36: 3.5486 | H36: 4.0809 | M36: Per unit/kWh | N36: Block 3 | O36: 351-600kWh | P36: Energy/kWh | Q36: 1101 | R36: DOM2 | S36: =+T36/1.15 -> 4.0525111 | T36: =+H36+(H36*0.142) -> 4.6603878
A37: Per unit/kWh | B37: Block 4 | C37: >600kWh | D37: Energy/kWh | E37: 1101 | F37: DOM2 | G37: 4.1317241 | H37: 4.7514827 | M37: Per unit/kWh | N37: Block 4 | O37: >600kWh | P37: Energy/kWh | Q37: 1101 | R37: DOM2 | S37: =+T37/1.15 -> 4.7184289 | T37: =+H37+(H37*0.142) -> 5.4261932
A39: Domestic - Farms (Jansenville) | E39: TARIFF | G39: VAT EXCL | H39: VAT INCL | M39: Domestic - Farms (Jansenville) | Q39: TARIFF | S39: VAT EXCL | T39: VAT INCL
A40: Availability | D40: Availability | E40: 1102 | F40: DOM2 | G40: 410.51304 | H40: 472.09 | M40: Availability | P40: Availability | Q40: 1102 | R40: DOM2 | S40: =+T40/1.15 -> 425.70203 | T40: =+H40+(H40*0.037) -> 489.55733
A41: Per unit/kWh | B41: Block 1 | C41: 1-50kWh | D41: Energy/kWh | E41: 1102 | F41: DOM2 | G41: 2.019 | H41: 2.3219 | M41: Per unit/kWh | N41: Block 1 | O41: 1-50kWh | P41: Energy/kWh | Q41: 1102 | R41: DOM2 | S41: =+T41/1.15 -> 2.3057477 | T41: =+H41+(H41*0.142) -> 2.6516098
A42: Per unit/kWh | B42: Block 2 | C42: 51-350kWh | D42: Energy/kWh | E42: 1102 | F42: DOM2 | G42: 2.5921743 | H42: 2.9810005 | M42: Per unit/kWh | N42: Block 2 | O42: 51-350kWh | P42: Energy/kWh | Q42: 1102 | R42: DOM2 | S42: =+T42/1.15 -> 2.9602631 | T42: =+H42+(H42*0.142) -> 3.4043026
A43: Per unit/kWh | B43: Block 3 | C43: 351-600kWh | D43: Energy/kWh | E43: 1102 | F43: DOM2 | G43: 3.5486 | H43: 4.0809 | M43: Per unit/kWh | N43: Block 3 | O43: 351-600kWh | P43: Energy/kWh | Q43: 1102 | R43: DOM2 | S43: =+T43/1.15 -> 4.0525111 | T43: =+H43+(H43*0.142) -> 4.6603878
A44: Per unit/kWh | B44: Block 4 | C44: >600kWh | D44: Energy/kWh | E44: 1102 | F44: DOM2 | G44: 4.1317241 | H44: 4.7514827 | M44: Per unit/kWh | N44: Block 4 | O44: >600kWh | P44: Energy/kWh | Q44: 1102 | R44: DOM2 | S44: =+T44/1.15 -> 4.7184289 | T44: =+H44+(H44*0.142) -> 5.4261932
A45: Maintenance | D45: Maintenance | E45: 1103 | G45: 581.64 | H45: 668.89 | M45: Maintenance | P45: Maintenance | Q45: 1103 | S45: =+T45/1.15 -> 603.16429 | T45: =+H45+(H45*0.037) -> 693.63893
A47: Domestic - Farms (FM Lines) | E47: TARIFF | G47: VAT EXCL | H47: VAT INCL | M47: Domestic - Farms (FM Lines) | Q47: TARIFF | S47: VAT EXCL | T47: VAT INCL
A48: Availability | D48: Availability | E48: 1104 | F48: DOM2 | G48: 410.51304 | H48: 472.09 | M48: Availability | P48: Availability | Q48: 1104 | R48: DOM2 | S48: =+T48/1.15 -> 425.70203 | T48: =+H48+(H48*0.037) -> 489.55733
A49: Per unit/kWh | B49: Block 1 | C49: 1-50kWh | D49: Energy/kWh | E49: 1104 | F49: DOM2 | G49: 2.019 | H49: 2.3219 | M49: Per unit/kWh | N49: Block 1 | O49: 1-50kWh | P49: Energy/kWh | Q49: 1104 | R49: DOM2 | S49: =+T49/1.15 -> 2.3057477 | T49: =+H49+(H49*0.142) -> 2.6516098
A50: Per unit/kWh | B50: Block 2 | C50: 51-350kWh | D50: Energy/kWh | E50: 1104 | F50: DOM2 | G50: 2.5921743 | H50: 2.9810005 | M50: Per unit/kWh | N50: Block 2 | O50: 51-350kWh | P50: Energy/kWh | Q50: 1104 | R50: DOM2 | S50: =+T50/1.15 -> 2.9602631 | T50: =+H50+(H50*0.142) -> 3.4043026
A51: Per unit/kWh | B51: Block 3 | C51: 351-600kWh | D51: Energy/kWh | E51: 1104 | F51: DOM2 | G51: 3.5486087 | H51: 4.0809 | M51: Per unit/kWh | N51: Block 3 | O51: 351-600kWh | P51: Energy/kWh | Q51: 1104 | R51: DOM2 | S51: =+T51/1.15 -> 4.0525111 | T51: =+H51+(H51*0.142) -> 4.6603878
A52: Per unit/kWh | B52: Block 4 | C52: >600kWh | D52: Energy/kWh | E52: 1104 | F52: DOM2 | G52: 4.1317241 | H52: 4.7514827 | M52: Per unit/kWh | N52: Block 4 | O52: >600kWh | P52: Energy/kWh | Q52: 1104 | R52: DOM2 | S52: =+T52/1.15 -> 4.7184289 | T52: =+H52+(H52*0.142) -> 5.4261932
...

Sheet ADDENDUM
A1: BULK INFRASTRUCTURE CONTRIBUTION LEVY (BICL) CHARGES FOR 2026/2027
A3: a) | B3: Non-residential developments: | C3: 2025/26 Tariff vat incl. | D3: 2026/27 Tariff vat incl. | E3: 2026/27 Tariff vat incl. rounded
B4: * Electricity - per kVA | C4: 1662.6 | D4: =+C4+(C4*0.037) -> 1724.1162 | E4: =ROUNDDOWN(D4,1) -> 1724.1
B5: * Water - per extra L/sec of flow required | C5: 134157.9 | D5: =+C5+(C5*0.037) -> 139121.74 | E5: =ROUNDDOWN(D5,1) -> 139121.7
B6: * Sewerage - per extra L/sec of flow required | C6: 273633 | D6: =+C6+(C6*0.037) -> 283757.42 | E6: =ROUNDDOWN(D6,1) -> 283757.4
B7: * Solid Waste - per additional person | C7: 853.8 | D7: =+C7+(C7*0.037) -> 885.3906 | E7: =ROUNDDOWN(D7,1) -> 885.3
A8: b) | B8: Residential developments:
B9: 7.5% of the market value of each erf determined by agreement between the Council and the developer
B10: provided that, in the event of a dispute as to market value, same will be determined by the mean of
B11: two valuations obtained by the Council at the expense of the developer.
B13: For purposes of this paragraph, a residential development includes any separate erf zoned for
B14: single residential purposed and, in the case of town and group housing developments, each
B15: separate residential erf in such development.
B17: Where, in a township developed essentially for residential purposes, there are non-residential
B18: erven e.g. business sites, then paragraph (a) will be applied in respect of such erven to determine
B19: the levy;
A21: c) | B21: that above BICL shall be paid to Council when a zoning/rezoning is activated i.e. when building
B22: plans are submitted for approval in respect of non-residential development or when application is
B23: made for authority to transfer a residential erf in an approved residential township or Sub-division;
A25: d) | B25: that a special trust account be opened into which all BICL will be paid and from which contributions
B26: towards the cost of providing bulk infrastructure will be withdrawn;
A28: e) | B28: that all expenditure in regard to the investigation referred to in paragraph (a) and (b) where
B29: necessary be paid from the aforesaid trust account;
A31: f) | B31: that above BICL charges be adopted as a Council Policy and be incorporated as a condition in all
B32: Council resolutions approving new development projects;
A34: g) | B34: that above BICL charges be adjusted annually;
A36: h) | B36: that developers be required to acknowledge their indebtness to the Council in respect of BICL by
B37: signing a standard Acknowledgement of Debt; and
A39: i) | B39: that the following amendment be noted and accepted:
B41: The BICL will be applicable to all developments except the following:
B43: - Midland Hospital - Almost completed
B44: - Education Offices in Murray Street - Under construction
B45: - Town Houses Donkin Street - Under construction
B46: - H.C.K. (Spandau Housing Project)
A49: Temporary Festival supply points
B51: Single phase Pre-paid meter supply point 60 Amp – R 1000-00 (No Refund )
B52: Three phase Pre-paid meter supply point 60 Amp – R 2000 -00 ( No Refund )
B54: All material remains the property of Municipality

Sheet GENERAL TARIFFS
A1: DR BEYERS NAUDÉ LOCAL MUNICIPALITY - GENERAL TARIFFS 2025/2026 | J1: 0.06
A2: Town | B2: Tariff Description | C2: 2025/2026 | E2: 2026/2027 | G2: 2026/2027 rounded | I2: Comments
C3: RATE - vat excl | D3: RATE - vat incl | E3: RATE - vat excl | F3: RATE - vat incl | G3: RATE - vat excl | H3: RATE - vat incl
A4: GENERAL TARIFFS - FINANCE
A5: All towns | B5: Clearance Certificate | C5: 337.3913 | D5: 388 | E5: =+F5/1.15 -> 349.87478 | F5: =+D5+(D5*0.037) -> 402.356 | G5: =+H5/1.15 -> 349.82609 | H5: =ROUNDDOWN(F5,1) -> 402.3 | J5: =D5*1.06 -> 411.28
A6: All towns | B6: Valuation Certificate | C6: 295.21739 | D6: 339.5 | E6: =+F6/1.15 -> 306.14043 | F6: =+D6+(D6*0.037) -> 352.0615 | G6: =+H6/1.15 -> 306.08696 | H6: =ROUNDDOWN(F6,1) -> 352 | J6: =D6*1.06 -> 359.87
A7: All towns | B7: Search Fees | C7: 96.086957 | D7: 110.5 | E7: =+F7/1.15 -> 99.642174 | F7: =+D7+(D7*0.037) -> 114.5885 | G7: =+H7/1.15 -> 99.565217 | H7: =ROUNDDOWN(F7,1) -> 114.5 | J7: =D7*1.06 -> 117.13
A8: All towns | B8: Tender Clearance Certificate | C8: 95.391304 | D8: 109.7 | E8: =+F8/1.15 -> 98.920783 | F8: =+D8+(D8*0.037) -> 113.7589 | G8: =+H8/1.15 -> 98.869565 | H8: =ROUNDDOWN(F8,1) -> 113.7
A9: All towns | B9: Charges for Blocking/unblocking indigent prepaid meters | C9: 61.73913 | D9: 71 | E9: =+F9/1.15 -> 64.023478 | F9: =+D9+(D9*0.037) -> 73.627 | G9: =+H9/1.15 -> 64 | H9: =ROUNDDOWN(F9,1) -> 73.6 | J9: =D9*1.06 -> 75.26
A10: All towns | B10: Charges for Notices of Default | C10: 80.608696 | D10: 92.7 | E10: =+F10/1.15 -> 83.591217 | F10: =+D10+(D10*0.037) -> 96.1299 | G10: =+H10/1.15 -> 83.565217 | H10: =ROUNDDOWN(F10,1) -> 96.1 | J10: =D10*1.06 -> 98.262
A11: All towns | B11: Penalty charges for dishonoured cheques | C11: 714.69565 | D11: 821.9 | E11: =+F11/1.15 -> 741.13939 | F11: =+D11+(D11*0.037) -> 852.3103 | G11: =+H11/1.15 -> 741.13043 | H11: =ROUNDDOWN(F11,1) -> 852.3 | J11: =D11*1.06 -> 871.214
A12: DR BEYERS NAUDÉ LOCAL MUNICIPALITY - GENERAL TARIFFS 2025/2026
A13: Town | B13: Tariff Description | C13: 2025/2026 | E13: 2026/2027 | G13: 2026/2027 rounded | I13: Comments
C14: RATE - vat excl | D14: RATE - vat incl | E14: RATE - vat excl | F14: RATE - vat incl | G14: RATE - vat excl | H14: RATE - vat incl
A15: ELECTRICITY
A16: GRT, AB, NB | B16: Metered Electricity Deposit:Domestic | C16: 2928.6 | D16: 2928.6 | E16: =+F16 -> 3036.9582 | F16: =+D16+(D16*0.037) -> 3036.9582 | G16: =+H16 -> 3036.9 | H16: =ROUNDDOWN(F16,1) -> 3036.9 | I16: No VAT on deposits
A17: GRT, AB, NB | B17: Metered Electricity Deposit: Other | C17: 4686.1 | D17: 4686.1 | E17: =+F17 -> 4859.4857 | F17: =+D17+(D17*0.037) -> 4859.4857 | G17: =+H17 -> 4859.4 | H17: =ROUNDDOWN(F17,1) -> 4859.4 | I17: Or equeal to one month's consumption / No VAT on deposits
A18: WM, SV | B18: Metered Electricity Deposit:Domestic | C18: 2928.6 | D18: 2928.6 | E18: =+F18 -> 3036.9582 | F18: =+D18+(D18*0.037) -> 3036.9582 | G18: =+H18 -> 3036.9 | H18: =ROUNDDOWN(F18,1) -> 3036.9 | I18: No VAT on deposits
A19: WM, SV | B19: Metered Electricity Deposit: Other | C19: 4686.1 | D19: 4686.1 | E19: =+F19 -> 4859.4857 | F19: =+D19+(D19*0.037) -> 4859.4857 | G19: =+H19 -> 4859.4 | H19: =ROUNDDOWN(F19,1) -> 4859.4 | I19: Or equeal to one month's consumption / No VAT on deposits
A20: JV | B20: Metered Electricity Deposit:Domestic | C20: 2928.6 | D20: 2928.6 | E20: =+F20 -> 3036.9582 | F20: =+D20+(D20*0.037) -> 3036.9582 | G20: =+H20 -> 3036.9 | H20: =ROUNDDOWN(F20,1) -> 3036.9 | I20: No VAT on deposits
A21: JV | B21: Metered Electricity Deposit: Other | C21: 4686.1 | D21: 4686.1 | E21: =+F21 -> 4859.4857 | F21: =+D21+(D21*0.037) -> 4859.4857 | G21: =+H21 -> 4859.4 | H21: =ROUNDDOWN(F21,1) -> 4859.4 | I21: Or equeal to one month's consumption / No VAT on deposits
A22: GRT, AB, NB | B22: Metered Electricity: Reconnection Fees: Town | C22: 847.91304 | D22: 975.1 | E22: =+F22/1.15 -> 879.28583 | F22: =+D22+(D22*0.037) -> 1011.1787 | G22: =+H22/1.15 -> 879.21739 | H22: =ROUNDDOWN(F22,1) -> 1011.1
A23: GRT, AB, NB | B23: Metered Electricity: Reconnection Fees: Rural | C23: 847.91304 | D23: 975.1 | E23: =+F23/1.15 -> 879.28583 | F23: =+D23+(D23*0.037) -> 1011.1787 | G23: =+H23/1.15 -> 879.21739 | H23: =ROUNDDOWN(F23,1) -> 1011.1 | I23: Plus transport costs + 25%
A24: JV | B24: Metered Electricity: Reconnection Fees: Town | C24: 847.91304 | D24: 975.1 | E24: =+F24/1.15 -> 879.28583 | F24: =+D24+(D24*0.037) -> 1011.1787 | G24: =+H24/1.15 -> 879.21739 | H24: =ROUNDDOWN(F24,1) -> 1011.1
A25: JV | B25: Metered Electricity: Reconnection Fees: Rural | C25: 847.91304 | D25: 975.1 | E25: =+F25/1.15 -> 879.28583 | F25: =+D25+(D25*0.037) -> 1011.1787 | G25: =+H25/1.15 -> 879.21739 | H25: =ROUNDDOWN(F25,1) -> 1011.1 | I25: Plus transport costs + 25%
A26: WM, SV, RB | B26: Metered Electricity: Reconnection Fees: Town | C26: 847.91304 | D26: 975.1 | E26: =+F26/1.15 -> 879.28583 | F26: =+D26+(D26*0.037) -> 1011.1787 | G26: =+H26/1.15 -> 879.21739 | H26: =ROUNDDOWN(F26,1) -> 1011.1
A27: All towns | B27: Prepaid Electricity: New Connection: Domestic | C27: 1391.1304 | D27: 1599.8 | E27: =+F27/1.15 -> 1442.6023 | F27: =+D27+(D27*0.037) -> 1658.9926 | G27: =+H27/1.15 -> 1442.5217 | H27: =ROUNDDOWN(F27,1) -> 1658.9 | I27: Connection to houses without electricity (electrification projects only)
A28: All towns | B28: Prepaid Electricity: New Connection: Indigent | C28: 223.30435 | D28: 256.8 | E28: =+F28/1.15 -> 231.56661 | F28: =+D28+(D28*0.037) -> 266.3016 | G28: =+H28/1.15 -> 231.56522 | H28: =ROUNDDOWN(F28,1) -> 266.3 | I28: Connection to houses without electricity (electrification projects only)
A29: All towns | B29: Prepaid Electricity: Replace Keypad for Prepaid Meter | C29: 217.3913 | D29: 250 | E29: =+F29/1.15 -> 225.43478 | F29: =+D29+(D29*0.037) -> 259.25 | G29: =H29/1.15 -> 217.3913 | H29: 250
A30: All towns | B30: From Metered Elect to Prepaid - Meter Equipment | C30: 2172.6957 | D30: 2498.6 | E30: =+F30/1.15 -> 2253.0854 | F30: =+D30+(D30*0.037) -> 2591.0482 | G30: =+H30/1.15 -> 2253.0435 | H30: =ROUNDDOWN(F30,1) -> 2591
A31: All towns | B31: From Metered Elect to Prepaid - Installation Costs | C31: 953.56522 | D31: 1096.6 | E31: =+F31/1.15 -> 988.84713 | F31: =+D31+(D31*0.037) -> 1137.1742 | G31: =+H31/1.15 -> 988.78261 | H31: =ROUNDDOWN(F31,1) -> 1137.1
A32: All towns | B32: From Prepaid to Credit Meter - Meter & Installation | C32: 2330 | D32: 2679.5 | E32: =+F32/1.15 -> 2416.21 | F32: =+D32+(D32*0.037) -> 2778.6415 | G32: =+H32/1.15 -> 2416.1739 | H32: =ROUNDDOWN(F32,1) -> 2778.6
A33: All towns | B33: From Prepaid to Credit Meter - Deposit | C33: 3793.3 | D33: 3793.3 | E33: =+F33 -> 3933.6521 | F33: =+D33+(D33*0.037) -> 3933.6521 | G33: =+H33 -> 3933.6 | H33: =ROUNDDOWN(F33,1) -> 3933.6 | I33: No VAT on deposits
A34: All towns | B34: Electricity Call outs, repairs as a result of a consumer fault - Town (Normal Hours) | C34: 694.78261 | D34: 799 | E34: =+F34/1.15 -> 720.48957 | F34: =+D34+(D34*0.037) -> 828.563 | G34: =+H34/1.15 -> 720.43478 | H34: =ROUNDDOWN(F34,1) -> 828.5
A35: All towns | B35: Electricity Call outs, repairs as a result of a consumer fault - Town (After Hours) | C35: 1034.7826 | D35: 1190 | E35: =+F35/1.15 -> 1073.0696 | F35: =+D35+(D35*0.037) -> 1234.03 | G35: =+H35/1.15 -> 1073.0435 | H35: =ROUNDDOWN(F35,1) -> 1234
A36: All towns | B36: Electricity Call outs, repairs as a result of a consumer fault - Agric Area (Normal Hours) | C36: 694.78261 | D36: 799 | E36: =+F36/1.15 -> 720.48957 | F36: =+D36+(D36*0.037) -> 828.563 | G36: =+H36/1.15 -> 720.43478 | H36: =ROUNDDOWN(F36,1) -> 828.5 | I36: Tariff + 25% + transport
A37: All towns | B37: Electricity Call outs, repairs as a result of a consumer fault - Agric Area (After Hours) | C37: 1034.7826 | D37: 1190 | E37: =+F37/1.15 -> 1073.0696 | F37: =+D37+(D37*0.037) -> 1234.03 | G37: =+H37/1.15 -> 1073.0435 | H37: =ROUNDDOWN(F37,1) -> 1234 | I37: Tariff + 25% + transport
A38: All towns | B38: Electricity Call outs, repairs as a result of a consumer fault - Temporary Service Connection | C38: 0 | D38: 0 | E38: =+F38/1.15 -> 0 | F38: =+D38+(D38*0.037) -> 0 | G38: =+H38/1.15 -> 0 | H38: =ROUNDDOWN(F38,1) -> 0 | I38: Actual Costs + 25%
A39: All towns | B39: Electricity Call outs, repairs as a result of a consumer fault - Damages to service applications, meters, etc. | C39: 0 | D39: 0 | E39: =+F39/1.15 -> 0 | F39: =+D39+(D39*0.037) -> 0 | G39: =+H39/1.15 -> 0 | H39: =ROUNDDOWN(F39,1) -> 0 | I39: Actual Costs + 25%
A40: All towns | B40: Testing of Meters - Town - Single Phase | C40: 998.17391 | D40: 1147.9 | E40: =+F40/1.15 -> 1035.1063 | F40: =+D40+(D40*0.037) -> 1190.3723 | G40: =+H40/1.15 -> 1035.0435 | H40: =ROUNDDOWN(F40,1) -> 1190.3
...

Sheet summary
A1: DR BEYERS NAUDÉ LOCAL MUNICIPALITY TARIFFS 2017/2018
A2: BULK INFRASTRUCTURE CONTRIBUTION LEVY (BICL) CHARGES (see addendum)
E4: GRT | F4: ABERDEEN | G4: NIEU-BETHESDA | H4: JANSENVILLE | I4: KLIPPLAAT | J4: WILLOWMORE | K4: STEYTLERVILLE | L4: RIETBRON
A6: METERED ELECTRICITY TARIFFS
A8: METERED ELECTRICITY - DEPOSITS
A10: Type of deposit | E10: NO VAT | F10: NO VAT | G10: NO VAT | H10: NO VAT | I10: NO VAT | J10: NO VAT | K10: NO VAT | L10: NO VAT
A11: Domestic | E11: =1405*1.07 -> 1503.35 | F11: =1405*1.07 -> 1503.35 | J11: =1405*1.07 -> 1503.35 | K11: 1503.35
A12: Other | C12: or amount equal to one month's consumption | E12: =2240*1.07 -> 2396.8 | F12: =2240*1.07 -> 2396.8
C13: or an amount specified by Treasurer
A16: METERED ELECTRICITY - CONNECTION & DISCONNECTION FEES
A18: Area: | E18: VAT EXCL | F18: VAT EXCL | G18: VAT EXCL | H18: VAT EXCL | I18: VAT EXCL | J18: VAT EXCL | K18: VAT EXCL | L18: VAT EXCL
A19: Town | B19: New or closed accounts - connection & disconnection fees | J19: 434.78 | K19: 434.78
A20: Town | B20: Disconnection or restriction of services | J20: 434.78 | K20: 434.78
A21: Town | B21: Reconnection or reinstatement of services | E21: 434.78 | F21: 434.78 | H21: 434.78 | J21: 434.78 | K21: 434.78
A22: Rural Area | D22: (plus transport costs + 25%) | E22: 434.78 | F22: 434.78
A25: METERED ELECTRICITY - AVAILABILITY & ENERGY CONSUMPTION (subject to approval by NERSA)
A27: SCALE 1 - DOMESTIC
A29: Low Domestic Town - Indigent | E29: VAT EXCL | F29: VAT EXCL | G29: VAT EXCL | H29: VAT EXCL | I29: VAT EXCL | J29: VAT EXCL | K29: VAT EXCL | L29: VAT EXCL
A30: Availability | D30: Availability | E30: =146.57*1.07 -> 156.8299 | F30: =146.57*1.07 -> 156.8299 | J30: =146.57*1.07 -> 156.8299 | K30: =146.57*1.07 -> 156.8299
A31: Per unit/kWh | B31: Block 1 | C31: 1-50kWh | D31: Energy/kWh | E31: =0.8036*1.07 -> 0.859852 | F31: =0.8036*1.07 -> 0.859852 | J31: =0.8036*1.07 -> 0.859852 | K31: =0.8036*1.07 -> 0.859852
A32: Per unit/kWh | B32: Block 2 | C32: 51-350kWh | D32: Energy/kWh | E32: =1.0414*1.07 -> 1.114298 | F32: =1.0414*1.07 -> 1.114298 | J32: =1.0414*1.07 -> 1.114298 | K32: =1.0414*1.07 -> 1.114298
A33: Per unit/kWh | B33: Block 3 | C33: 351-600kWh | D33: Energy/kWh | E33: =1.2062*1.07 -> 1.290634 | F33: =1.2062*1.07 -> 1.290634 | J33: =1.2062*1.07 -> 1.290634 | K33: =1.2062*1.07 -> 1.290634
A34: Per unit/kWh | B34: Block 4 | C34: >600kWh | D34: Energy/kWh | E34: =1.4263*1.07 -> 1.526141 | F34: =1.4263*1.07 -> 1.526141 | J34: =1.4263*1.07 -> 1.526141 | K34: =1.4263*1.07 -> 1.526141
A36: Domestic Town | E36: VAT EXCL | F36: VAT EXCL | G36: VAT EXCL | H36: VAT EXCL | I36: VAT EXCL | J36: VAT EXCL | K36: VAT EXCL | L36: VAT EXCL
A37: Availability | D37: Availability | E37: =209.52*1.07 -> 224.1864 | F37: =209.52*1.07 -> 224.1864 | J37: =209.52*1.07 -> 224.1864 | K37: =209.52*1.07 -> 224.1864
A38: Per unit/kWh | B38: Block 1 | C38: 1-50kWh | D38: Energy/kWh | E38: =0.8905*1.07 -> 0.952835 | F38: =0.8905*1.07 -> 0.952835 | J38: =0.8905*1.07 -> 0.952835 | K38: =0.8905*1.07 -> 0.952835
A39: Per unit/kWh | B39: Block 2 | C39: 51-350kWh | D39: Energy/kWh | E39: =1.1175*1.07 -> 1.195725 | F39: =1.1175*1.07 -> 1.195725 | J39: =1.1175*1.07 -> 1.195725 | K39: =1.1175*1.07 -> 1.195725
A40: Per unit/kWh | B40: Block 3 | C40: 351-600kWh | D40: Energy/kWh | E40: =1.4263*1.07 -> 1.526141 | F40: =1.4263*1.07 -> 1.526141 | J40: =1.4263*1.07 -> 1.526141 | K40: =1.4263*1.07 -> 1.526141
A41: Per unit/kWh | B41: Block 4 | C41: >600kWh | D41: Energy/kWh | E41: =1.6606*1.07 -> 1.776842 | F41: =1.6606*1.07 -> 1.776842 | J41: =1.6606*1.07 -> 1.776842 | K41: =1.6606*1.07 -> 1.776842
A43: Domestic - Farms (Jansenville) | E43: VAT EXCL | F43: VAT EXCL | G43: VAT EXCL | H43: VAT EXCL | I43: VAT EXCL | J43: VAT EXCL | K43: VAT EXCL | L43: VAT EXCL
A44: Availability | D44: Availability | E44: =209.52*1.07 -> 224.1864
A45: Per unit/kWh | B45: Block 1 | C45: 1-50kWh | D45: Energy/kWh | E45: =0.8905*1.07 -> 0.952835
A46: Per unit/kWh | B46: Block 2 | C46: 51-350kWh | D46: Energy/kWh | E46: =1.1175*1.07 -> 1.195725
A47: Per unit/kWh | B47: Block 3 | C47: 351-600kWh | D47: Energy/kWh | E47: =1.4263*1.07 -> 1.526141
A48: Per unit/kWh | B48: Block 4 | C48: >600kWh | D48: Energy/kWh | E48: =1.6606*1.07 -> 1.776842
A49: Maintenance | D49: Maintenance | E49: =285.73*1.07 -> 305.7311
A51: Domestic - Farms (FM Lines) | E51: VAT EXCL | F51: VAT EXCL | G51: VAT EXCL | H51: VAT EXCL | I51: VAT EXCL | J51: VAT EXCL | K51: VAT EXCL | L51: VAT EXCL
A52: Availability | D52: Availability | E52: =209.52*1.07 -> 224.1864
A53: Per unit/kWh | B53: Block 1 | C53: 1-50kWh | D53: Energy/kWh | E53: =0.8905*1.07 -> 0.952835
A54: Per unit/kWh | B54: Block 2 | C54: 51-350kWh | D54: Energy/kWh | E54: =1.1175*1.07 -> 1.195725
...

Sheet Sheet2
A1: ConnectionFees
A2: Reconnection fees
A3: Deposits | B3: All the same
A4: Elextricity Domestic& Indigent step Tarrifs
A5: Administrative Charges
A7: Water vehoog met 6%
A8: Electricity All exept Domestic 7%
A9: Refuse (See other sheet) | B9: tarrif 18/19 | C9: Excl Vat
A10: sanitation/sewer 6%
A11: Property rates 6% | B11: NO VAT
